	BEGIN:VCALENDAR
VERSION:2.0
PRODID:-//eventon.com NONSGML v1.0//EN
CALSCALE:GREGORIAN
METHOD:PUBLISH
BEGIN:VEVENT
UID:69e621588a79d
DTSTAMP:20260420T125136Z
DTSTART:20180512T130000Z
DTEND:20180513T130000Z
LOCATION:
SUMMARY:mariage
DESCRIPTION:mariage\nhttps://www.montillot.fr/events/mariage-3/
URL:https://www.montillot.fr/events/mariage-3/
END:VEVENT
END:VCALENDAR